BEGIN:VCALENDAR
VERSION:2.0
PRODID:-//Tukios.com/
BEGIN:VEVENT
UID:31a18474-47e6-4175-965e-f5de7718e81a@www.spurgeonfh.com
DTSTAMP:20260421T065409Z
DTSTART:20260422T210000Z
DTEND:20260422T230000Z
SUMMARY:Visitation
DESCRIPTION:
URL:https://www.spurgeonfh.com/obituaries/gertrude-gertie-schepman
LOCATION: 206 E Commerce St  Brownstown IN 47220
GEO:38.8755409;-86.0419661
END:VEVENT
END:VCALENDAR