BEGIN:VCALENDAR
VERSION:2.0
PRODID:-//Tukios.com/
BEGIN:VEVENT
UID:91da1ef8-a756-415e-872f-6d0937e7d352@www.spurgeonfh.com
DTSTAMP:20260421T065049Z
DTSTART:20260423T140000Z
DTEND:20260423T150000Z
SUMMARY:Visitation
DESCRIPTION:
URL:https://www.spurgeonfh.com/obituaries/gertrude-gertie-schepman
LOCATION:St John's Lutheran Church 1108 S 460 E  Seymour IN 47274
GEO:38.9626773;-85.9053885
END:VEVENT
END:VCALENDAR