BEGIN:VCALENDAR
VERSION:2.0
PRODID:-//Tukios.com/
BEGIN:VEVENT
UID:6271b289-2af5-47bc-959e-14d35372eed9@www.spurgeonfh.com
DTSTAMP:20260421T064617Z
DTSTART:20260423T150000Z
DTEND:20260423T160000Z
SUMMARY:Funeral Service
DESCRIPTION:
URL:https://www.spurgeonfh.com/obituaries/gertrude-gertie-schepman
LOCATION:St John's Lutheran Church 1108 S 460 E  Seymour IN 47274
GEO:38.9626773;-85.9053885
END:VEVENT
END:VCALENDAR