BEGIN:VCALENDAR
VERSION:2.0
PRODID:-//Tukios.com/
BEGIN:VEVENT
UID:4f6e40a1-7295-4d54-9b4a-b8236bcacb32@www.spurgeonfh.com
DTSTAMP:20260424T012927Z
DTSTART:20260428T210000Z
DTEND:20260429T010000Z
SUMMARY:Visitation
DESCRIPTION:
URL:https://www.spurgeonfh.com/obituaries/herbert-herb-lane
LOCATION: 206 E Commerce St  Brownstown IN 47220
GEO:38.8755409;-86.0419661
END:VEVENT
END:VCALENDAR