BEGIN:VCALENDAR
VERSION:2.0
PRODID:-//Tukios.com/
BEGIN:VEVENT
UID:93afb9eb-a2cc-42e0-ae76-7a81ab9c1b4d@www.spurgeonfh.com
DTSTAMP:20260424T013144Z
DTSTART:20260429T140000Z
DTEND:20260429T150000Z
SUMMARY:Visitation
DESCRIPTION:
URL:https://www.spurgeonfh.com/obituaries/herbert-herb-lane
LOCATION: 206 E Commerce St  Brownstown IN 47220
GEO:38.8755409;-86.0419661
END:VEVENT
END:VCALENDAR