BEGIN:VCALENDAR
VERSION:2.0
PRODID:-//Tukios.com/
BEGIN:VEVENT
UID:9afa25a7-55a5-4eba-85a1-726365bca9d5@www.spurgeonfh.com
DTSTAMP:20260424T013313Z
DTSTART:20260429T150000Z
DTEND:20260429T160000Z
SUMMARY:Funeral Service
DESCRIPTION:
URL:https://www.spurgeonfh.com/obituaries/herbert-herb-lane
LOCATION: 206 E Commerce St  Brownstown IN 47220
GEO:38.8755409;-86.0419661
END:VEVENT
END:VCALENDAR