BEGIN:VCALENDAR
VERSION:2.0
PRODID:-//Tukios.com/
BEGIN:VEVENT
UID:d40e3c1d-82f8-44d4-94aa-31311f3e2940@www.spurgeonfh.com
DTSTAMP:20260424T195219Z
DTSTART:20260428T130000Z
DTEND:20260428T150000Z
SUMMARY:Visitation
DESCRIPTION:
URL:https://www.spurgeonfh.com/obituaries/juanita-vondielingen
LOCATION: 206 East Commerce Street  Brownstown IN 47220
GEO:38.8755409;-86.0419661
END:VEVENT
END:VCALENDAR