BEGIN:VCALENDAR
VERSION:2.0
PRODID:-//Tukios.com/
BEGIN:VEVENT
UID:d0294901-5b58-4c26-9eb8-63e03c78dd4a@www.spurgeonfh.com
DTSTAMP:20260424T194902Z
DTSTART:20260428T150000Z
DTEND:20260428T160000Z
SUMMARY:Funeral Service
DESCRIPTION:
URL:https://www.spurgeonfh.com/obituaries/juanita-vondielingen
LOCATION: 206 East Commerce Street  Brownstown IN 47220
GEO:38.8755409;-86.0419661
END:VEVENT
END:VCALENDAR